BEGIN:VCALENDAR
VERSION:2.0
PRODID:-//Library Market//iCal Export//EN
BEGIN:VEVENT
SUMMARY:Mighty Engineers
UID:2199
DTSTAMP:20260424T162900Z
DTSTART:20260504T200000Z
DTEND:20260504T210000Z
LOCATION:Wilkinsburg Public Library, 605 Ross Ave., Wilkinsburg, PA 15221,
  United States
ROOM: Children&#039;s Department
DESCRIPTION:THEME: STAR WARS LIGHTSABERA once-a-month engineering workshop
  to complete a building challenge. Suggested for ages 6 and up.
URL:https://wilkinsburg.librarycalendar.com/event/mighty-engineers-2199
END:VEVENT
END:VCALENDAR
